BEGIN:VCALENDAR
VERSION:2.0
PRODID:-//it52.info//IT events calendar//RU
CALSCALE:GREGORIAN
URL:http://it52.info/events
SOURCE:http://it52.info/events.ics
NAME:IT events calendar
DESCRIPTION:All IT events in 52 region
REFRESH-INTERVAL;VALUE=DURATION:PT12H
X-PUBLISHED-TTL:PT12H
METHOD:PUBLISH
BEGIN:VTIMEZONE
TZID:Europe/Moscow
END:VTIMEZONE
BEGIN:VEVENT
DTSTAMP:20260420T114522Z
UID:2026-04-17T19:16:49+03:00-2026-04-30T19:00:00+03:00-1318@it52.info
DTSTART;TZID=Europe/Moscow:20260430T190000
CREATED:20260417T191649
DESCRIPTION:Стажёрская программа в «Цитадель»
  -  старт нового набора!\n\nХочешь не прост
 о получить строчку в резюме\, а начать ка
 рьеру в IT по-настоящему - с реальными зад
 ачами\, сильной командой и перспективой 
 остаться в Компании? Тогда у нас отлична
 я новость: «Цитадель» открывает набор на
  третий поток стажёрской программы 👩🏼
 ‍🎓🧑🏻‍🎓\n\nИ это не просто стажировка
  «для галочки».\nРезультат прошлого пото
 ка говорит сам за себя: 20 из 22 стажёров ус
 пешно прошли программу и стали частью на
 шей команды. А значит\, для многих это дей
 ствительно стало уверенным стартом в пр
 офессии 🚀\n\n📌 Какие направления открыт
 ы?\n\n💻 Разработка: C++\, Python\, .Net\n✅ Ручное и
  авто - тестирование\n⌨️ Системное админ
 истрирование\n🤖 Проектирование ПО\n📱 С
 ервис-менеджмент\n🚀 Внедрение ПО\n\n✍️ Г
 де узнать подробности?\n\nПосмотреть треб
 ования к кандидатам\, условия стажировки
  и оставить заявку можно здесь.\n\n📅 Этап
 ы отбора\n\n• до 30.04 — приём заявок\n• до 30
 .05 — выполнение и проверка тестовых зада
 ний\n• до 10.06 — интервью\n• 01.07–10.07 — тру
 доустройство и старт стажировки\n\n👥 Кто
  может подать заявку?\nМы ждём:\n• студент
 ов 3–4 курса бакалавриата\n• обучающихся
  в магистратуре\n• молодых специалистов 
 2023–2025 года выпуска\n\nСтажёрский проект 
 реализуется в Нижнем Новгороде\, Москве 
 и Ярославле😉\n\nЭто возможность погрузи
 ться в реальные процессы\, поработать на
 д настоящими задачами и сделать первый с
 ерьёзный шаг в карьере.\n\nПрисоединяйся 
 к Компании «Цитадель» — именно здесь на
 чнётся твоя история в IT\n
LAST-MODIFIED:20260420T101047
LOCATION:Нижний Новгород\, Москва\, Ярославль
ORGANIZER;CN=inga.tabeleva@mail.ru:mailto:inga.tabeleva@mail.ru
SUMMARY:Стажёрская программа в «Цитадель» -  
 старт нового набора!
URL:http://it52.info/events/2026-04-30-stazhyorskaya-programma-v-tsitadel-s
 tart-novogo-nabora
END:VEVENT
END:VCALENDAR
